BEGIN:VCALENDAR
VERSION:2.0
PRODID:-//hacksw/handcal//NONSGML v1.0//EN
BEGIN:VEVENT
SUMMARY:M13 ANS FEMININ DIVISION 2 AURA JOURNEE 10
UID:2dc11fec-e14f-437b-bfb9-73e11cf03edd
DTSTART:20260530T220000Z
DTEND:20260531T220000Z
LOCATION:Localisation GYMNASE DES PORTES D'OCCITANE  
CATEGORIES:Sportif
STATUS:
URL;VALUE=URI:https://www.handballclubgannatois.com/evenements/2026/05/31/m13-ans-feminin-division-2-aura-journee-10-2433262
END:VEVENT
END:VCALENDAR
