BEGIN:VCALENDAR
VERSION:2.0
PRODID:-//hacksw/handcal//NONSGML v1.0//EN
BEGIN:VEVENT
SUMMARY:M18 ANS FEMININ DIVISION 1 AURA JOURNEE 10
UID:03f8af68-f459-4ca7-b6d2-34951dfbca53
DTSTART:20260529T220000Z
DTEND:20260530T220000Z
LOCATION:Localisation SALLE PLURIACTIVITE  
CATEGORIES:Sportif
STATUS:
URL;VALUE=URI:https://www.handballclubgannatois.com/evenements/2026/05/30/m18-ans-feminin-division-1-aura-journee-10-2433292
END:VEVENT
END:VCALENDAR
