BEGIN:VCALENDAR
VERSION:2.0
PRODID:-//hacksw/handcal//NONSGML v1.0//EN
BEGIN:VEVENT
SUMMARY:M13 ANS MASCULIN EXCELLENCE AURA JOURNEE 10
UID:57d43d16-8d05-454b-b770-e87e224d99a1
DTSTART:20260529T220000Z
DTEND:20260530T220000Z
LOCATION:Localisation GYMNASE DES PORTES D'OCCITANE  
CATEGORIES:Sportif
STATUS:
URL;VALUE=URI:https://www.handballclubgannatois.com/evenements/2026/05/30/m13-ans-masculin-excellence-aura-journee-10-2433272
END:VEVENT
END:VCALENDAR
