BEGIN:VCALENDAR
VERSION:2.0
PRODID:-//hacksw/handcal//NONSGML v1.0//EN
BEGIN:VEVENT
SUMMARY:M13 ANS FEMININ DIVISION 2 AURA JOURNEE 9
UID:c74bb030-a063-44b8-a550-1ee74e593f7b
DTSTART:20260509T220000Z
DTEND:20260510T220000Z
LOCATION:Localisation GYMNASE FRANCOIS VILLON  
CATEGORIES:Sportif
STATUS:
URL;VALUE=URI:https://www.handballclubgannatois.com/evenements/2026/05/10/m13-ans-feminin-division-2-aura-journee-9-2433261
END:VEVENT
END:VCALENDAR
