BEGIN:VCALENDAR
VERSION:2.0
PRODID:-//hacksw/handcal//NONSGML v1.0//EN
BEGIN:VEVENT
SUMMARY:M18 ANS FEMININ DIVISION 1 AURA JOURNEE 2
UID:9e374493-7060-4b14-a597-45247f7aa8ce
DTSTART:20260117T230000Z
DTEND:20260118T230000Z
LOCATION:Localisation GYMNASE ROGER FRISON ROCHE  
CATEGORIES:Sportif
STATUS:
URL;VALUE=URI:https://www.handballclubgannatois.com/evenements/2026/01/18/m18-ans-feminin-division-1-aura-journee-2-2433284
END:VEVENT
END:VCALENDAR
